BEGIN:VCALENDAR
VERSION:2.0
PRODID:-//Elm Lake - ECPv6.15.20//NONSGML v1.0//EN
CALSCALE:GREGORIAN
METHOD:PUBLISH
X-WR-CALNAME:Elm Lake
X-ORIGINAL-URL:https://www.elmlakegolfcourse.com
X-WR-CALDESC:Events for Elm Lake
REFRESH-INTERVAL;VALUE=DURATION:PT1H
X-Robots-Tag:noindex
X-PUBLISHED-TTL:PT1H
BEGIN:VTIMEZONE
TZID:America/Toronto
BEGIN:DAYLIGHT
TZOFFSETFROM:-0500
TZOFFSETTO:-0400
TZNAME:EDT
DTSTART:20210314T070000
END:DAYLIGHT
BEGIN:STANDARD
TZOFFSETFROM:-0400
TZOFFSETTO:-0500
TZNAME:EST
DTSTART:20211107T060000
END:STANDARD
BEGIN:DAYLIGHT
TZOFFSETFROM:-0500
TZOFFSETTO:-0400
TZNAME:EDT
DTSTART:20220313T070000
END:DAYLIGHT
BEGIN:STANDARD
TZOFFSETFROM:-0400
TZOFFSETTO:-0500
TZNAME:EST
DTSTART:20221106T060000
END:STANDARD
BEGIN:DAYLIGHT
TZOFFSETFROM:-0500
TZOFFSETTO:-0400
TZNAME:EDT
DTSTART:20230312T070000
END:DAYLIGHT
BEGIN:STANDARD
TZOFFSETFROM:-0400
TZOFFSETTO:-0500
TZNAME:EST
DTSTART:20231105T060000
END:STANDARD
END:VTIMEZONE
BEGIN:VEVENT
DTSTART;TZID=America/Toronto:20221014T120000
DTEND;TZID=America/Toronto:20221014T170000
DTSTAMP:20260421T162915
CREATED:20220817T144719Z
LAST-MODIFIED:20220817T144841Z
UID:5604-1665748800-1665766800@www.elmlakegolfcourse.com
SUMMARY:Titleist Fitting/Demo Day
DESCRIPTION:
URL:https://www.elmlakegolfcourse.com/event/titleist-fitting-demo-day/
LOCATION:Elm Lake Golf Course\, 1609 Taylor-Thurston Rd.\, Columbus\, MS\, 39701\, United States
END:VEVENT
BEGIN:VEVENT
DTSTART;TZID=America/Toronto:20221021T133000
DTEND;TZID=America/Toronto:20221021T173000
DTSTAMP:20260421T162915
CREATED:20220201T160809Z
LAST-MODIFIED:20220201T160834Z
UID:5528-1666359000-1666373400@www.elmlakegolfcourse.com
SUMMARY:Fire Bible Scramble
DESCRIPTION:4 Player scramble
URL:https://www.elmlakegolfcourse.com/event/fire-bible-scramble-2/
LOCATION:Elm Lake Golf Course\, 1609 Taylor-Thurston Rd.\, Columbus\, MS\, 39701\, United States
ORGANIZER;CN="Dusty Fields":MAILTO:dustyhfields@yahoo.com
END:VEVENT
BEGIN:VEVENT
DTSTART;TZID=America/Toronto:20221023T083000
DTEND;TZID=America/Toronto:20221023T140000
DTSTAMP:20260421T162915
CREATED:20220101T163337Z
LAST-MODIFIED:20220101T163337Z
UID:5513-1666513800-1666533600@www.elmlakegolfcourse.com
SUMMARY:Inner Club vs Tupelo National
DESCRIPTION:
URL:https://www.elmlakegolfcourse.com/event/inner-club-vs-tupelo-national/
LOCATION:Elm Lake Golf Course\, 1609 Taylor-Thurston Rd.\, Columbus\, MS\, 39701\, United States
END:VEVENT
END:VCALENDAR