BEGIN:VCALENDAR
VERSION:2.0
PRODID:-//Elm Lake - ECPv6.15.20//NONSGML v1.0//EN
CALSCALE:GREGORIAN
METHOD:PUBLISH
X-ORIGINAL-URL:https://www.elmlakegolfcourse.com
X-WR-CALDESC:Events for Elm Lake
REFRESH-INTERVAL;VALUE=DURATION:PT1H
X-Robots-Tag:noindex
X-PUBLISHED-TTL:PT1H
BEGIN:VTIMEZONE
TZID:America/Toronto
BEGIN:DAYLIGHT
TZOFFSETFROM:-0500
TZOFFSETTO:-0400
TZNAME:EDT
DTSTART:20210314T070000
END:DAYLIGHT
BEGIN:STANDARD
TZOFFSETFROM:-0400
TZOFFSETTO:-0500
TZNAME:EST
DTSTART:20211107T060000
END:STANDARD
BEGIN:DAYLIGHT
TZOFFSETFROM:-0500
TZOFFSETTO:-0400
TZNAME:EDT
DTSTART:20220313T070000
END:DAYLIGHT
BEGIN:STANDARD
TZOFFSETFROM:-0400
TZOFFSETTO:-0500
TZNAME:EST
DTSTART:20221106T060000
END:STANDARD
BEGIN:DAYLIGHT
TZOFFSETFROM:-0500
TZOFFSETTO:-0400
TZNAME:EDT
DTSTART:20230312T070000
END:DAYLIGHT
BEGIN:STANDARD
TZOFFSETFROM:-0400
TZOFFSETTO:-0500
TZNAME:EST
DTSTART:20231105T060000
END:STANDARD
END:VTIMEZONE
BEGIN:VEVENT
DTSTART;TZID=America/Toronto:20220709T080000
DTEND;TZID=America/Toronto:20220709T143000
DTSTAMP:20260421T213003
CREATED:20220101T162528Z
LAST-MODIFIED:20220101T162528Z
UID:5501-1657353600-1657377000@www.elmlakegolfcourse.com
SUMMARY:Club Championship Day 1
DESCRIPTION:
URL:https://www.elmlakegolfcourse.com/event/club-championship-day-1/
LOCATION:Elm Lake Golf Course\, 1609 Taylor-Thurston Rd.\, Columbus\, MS\, 39701\, United States
END:VEVENT
BEGIN:VEVENT
DTSTART;TZID=America/Toronto:20220710T120000
DTEND;TZID=America/Toronto:20220710T180000
DTSTAMP:20260421T213003
CREATED:20220101T162612Z
LAST-MODIFIED:20220101T162612Z
UID:5504-1657454400-1657476000@www.elmlakegolfcourse.com
SUMMARY:Club Championship Day 2
DESCRIPTION:
URL:https://www.elmlakegolfcourse.com/event/club-championship-day-2/
LOCATION:Elm Lake Golf Course\, 1609 Taylor-Thurston Rd.\, Columbus\, MS\, 39701\, United States
END:VEVENT
BEGIN:VEVENT
DTSTART;TZID=America/Toronto:20220711T080000
DTEND;TZID=America/Toronto:20220714T120000
DTSTAMP:20260421T213003
CREATED:20220308T192320Z
LAST-MODIFIED:20220308T192320Z
UID:5570-1657526400-1657800000@www.elmlakegolfcourse.com
SUMMARY:Junior Golf Camp
DESCRIPTION:
URL:https://www.elmlakegolfcourse.com/event/junior-golf-camp-2/
LOCATION:Elm Lake Golf Course\, 1609 Taylor-Thurston Rd.\, Columbus\, MS\, 39701\, United States
ORGANIZER;CN="Benji Williams":MAILTO:brwilliams2@muw.edu
END:VEVENT
BEGIN:VEVENT
DTSTART;TZID=America/Toronto:20220718T080000
DTEND;TZID=America/Toronto:20220721T120000
DTSTAMP:20260421T213004
CREATED:20220308T192415Z
LAST-MODIFIED:20220308T192415Z
UID:5573-1658131200-1658404800@www.elmlakegolfcourse.com
SUMMARY:Junior Golf Camp
DESCRIPTION:
URL:https://www.elmlakegolfcourse.com/event/junior-golf-camp-3/
LOCATION:Elm Lake Golf Course\, 1609 Taylor-Thurston Rd.\, Columbus\, MS\, 39701\, United States
ORGANIZER;CN="Benji Williams":MAILTO:brwilliams2@muw.edu
END:VEVENT
BEGIN:VEVENT
DTSTART;TZID=America/Toronto:20220725T080000
DTEND;TZID=America/Toronto:20220727T110000
DTSTAMP:20260421T213004
CREATED:20220310T155633Z
LAST-MODIFIED:20220310T155633Z
UID:5584-1658736000-1658919600@www.elmlakegolfcourse.com
SUMMARY:Junior Golf Camp
DESCRIPTION:
URL:https://www.elmlakegolfcourse.com/event/junior-golf-camp-5/
LOCATION:Elm Lake Golf Course\, 1609 Taylor-Thurston Rd.\, Columbus\, MS\, 39701\, United States
ORGANIZER;CN="Erika Scott%2C PGA":MAILTO:escott@business.msstate.edu
END:VEVENT
END:VCALENDAR