BEGIN:VCALENDAR
VERSION:2.0
PRODID:-//Elm Lake - ECPv6.15.20//NONSGML v1.0//EN
CALSCALE:GREGORIAN
METHOD:PUBLISH
X-WR-CALNAME:Elm Lake
X-ORIGINAL-URL:https://www.elmlakegolfcourse.com
X-WR-CALDESC:Events for Elm Lake
REFRESH-INTERVAL;VALUE=DURATION:PT1H
X-Robots-Tag:noindex
X-PUBLISHED-TTL:PT1H
BEGIN:VTIMEZONE
TZID:America/Toronto
BEGIN:DAYLIGHT
TZOFFSETFROM:-0500
TZOFFSETTO:-0400
TZNAME:EDT
DTSTART:20180311T070000
END:DAYLIGHT
BEGIN:STANDARD
TZOFFSETFROM:-0400
TZOFFSETTO:-0500
TZNAME:EST
DTSTART:20181104T060000
END:STANDARD
BEGIN:DAYLIGHT
TZOFFSETFROM:-0500
TZOFFSETTO:-0400
TZNAME:EDT
DTSTART:20190310T070000
END:DAYLIGHT
BEGIN:STANDARD
TZOFFSETFROM:-0400
TZOFFSETTO:-0500
TZNAME:EST
DTSTART:20191103T060000
END:STANDARD
BEGIN:DAYLIGHT
TZOFFSETFROM:-0500
TZOFFSETTO:-0400
TZNAME:EDT
DTSTART:20200308T070000
END:DAYLIGHT
BEGIN:STANDARD
TZOFFSETFROM:-0400
TZOFFSETTO:-0500
TZNAME:EST
DTSTART:20201101T060000
END:STANDARD
END:VTIMEZONE
BEGIN:VEVENT
DTSTART;TZID=America/Toronto:20190601T133000
DTEND;TZID=America/Toronto:20190601T193000
DTSTAMP:20260422T185859
CREATED:20190319T162434Z
LAST-MODIFIED:20190411T182457Z
UID:5090-1559395800-1559417400@www.elmlakegolfcourse.com
SUMMARY:Swings for Scholarships Scramble
DESCRIPTION:1stAnnual golf scramble benefiting the Jim Spruiell Memorial Scholarship Fund. \n\nSwings for Scholarships \n\nTIME:         Registration starts at noon.  Tee-off at 1:30 PM \nENTRY FEE:    $300.00(includes: 4-man team\, green fees\, cart & snacks) \nEvening Event:  Crawfish boil with live music immediately following the closure of the tournament.  All team winners and raffle prizes will be announced during the evening event. (Golf team registration does not include evening event tickets) \nEvening Event Tickets: $20 per person (You do not have to participate in the golf tournament to attend the evening event) \n4-MAN SCRAMBLE EVENING RECEPTION WITH LIVE MUSIC AND FOOD PRIZES FOR 1ST\, 2ND  & 3RD PLACE \nRAFFLES AND MANY OTHER WAYS TO WIN
URL:https://www.elmlakegolfcourse.com/event/swings-for-scholarships-scramble/
LOCATION:Elm Lake Golf Course\, 1609 Taylor-Thurston Rd.\, Columbus\, MS\, 39701\, United States
ORGANIZER;CN="Sam Marshall":MAILTO:smarshall@umc.edu
END:VEVENT
BEGIN:VEVENT
DTSTART;TZID=America/Toronto:20190515T123000
DTEND;TZID=America/Toronto:20190515T173000
DTSTAMP:20260422T185859
CREATED:20190319T162103Z
LAST-MODIFIED:20190319T170651Z
UID:5087-1557923400-1557941400@www.elmlakegolfcourse.com
SUMMARY:Greg Andrews Invitational
DESCRIPTION:Invitational – Closed Event
URL:https://www.elmlakegolfcourse.com/event/greg-andrews-invitational/
LOCATION:Elm Lake Golf Course\, 1609 Taylor-Thurston Rd.\, Columbus\, MS\, 39701\, United States
END:VEVENT
BEGIN:VEVENT
DTSTART;TZID=America/Toronto:20190514T080000
DTEND;TZID=America/Toronto:20190514T120000
DTSTAMP:20260422T185859
CREATED:20190319T161140Z
LAST-MODIFIED:20190319T170601Z
UID:5076-1557820800-1557835200@www.elmlakegolfcourse.com
SUMMARY:SDI Paintline Corporate Scramble
DESCRIPTION:Corporate Scramble for SDI \nCourse Closed until 12:00pm Noon
URL:https://www.elmlakegolfcourse.com/event/sdi-paintline-corporate-scramble-2/
LOCATION:Elm Lake Golf Course\, 1609 Taylor-Thurston Rd.\, Columbus\, MS\, 39701\, United States
END:VEVENT
BEGIN:VEVENT
DTSTART;TZID=America/Toronto:20190507T070000
DTEND;TZID=America/Toronto:20190507T140000
DTSTAMP:20260422T185859
CREATED:20190319T161911Z
LAST-MODIFIED:20190411T183043Z
UID:5084-1557212400-1557237600@www.elmlakegolfcourse.com
SUMMARY:MHSAA 4A State Boys Golf Match 2 Days
DESCRIPTION:Course Closed until 2:00pm both days \nSpectators Welcome \nGolf Carts rented for $30\, first come first serve \nInfo Sheet
URL:https://www.elmlakegolfcourse.com/event/mhsaa-4a-state-boys-golf-match-2-days/
LOCATION:Elm Lake Golf Course\, 1609 Taylor-Thurston Rd.\, Columbus\, MS\, 39701\, United States
END:VEVENT
BEGIN:VEVENT
DTSTART;TZID=America/Toronto:20190506T070000
DTEND;TZID=America/Toronto:20190506T140000
DTSTAMP:20260422T185859
CREATED:20190319T161806Z
LAST-MODIFIED:20190319T170435Z
UID:5081-1557126000-1557151200@www.elmlakegolfcourse.com
SUMMARY:MHSAA 4A Boys Sate Golf Match 2 Days
DESCRIPTION:Course Closed until 2:00pm both days \nSpectators Welcome \nGolf Carts rented for $30\, first come first serve
URL:https://www.elmlakegolfcourse.com/event/mhsaa-4a-boys-sate-golf-match-2-days/
LOCATION:Elm Lake Golf Course\, 1609 Taylor-Thurston Rd.\, Columbus\, MS\, 39701\, United States
END:VEVENT
BEGIN:VEVENT
DTSTART;TZID=America/Toronto:20190504T133000
DTEND;TZID=America/Toronto:20190504T173000
DTSTAMP:20260422T185859
CREATED:20190115T195114Z
LAST-MODIFIED:20190321T155012Z
UID:5019-1556976600-1556991000@www.elmlakegolfcourse.com
SUMMARY:Birdies for Brazil
DESCRIPTION:2019 registration form \n \n4 Player Scramble\nBenefitting First Baptist Church\, Columbus MS church building missions in Brazil\, South America
URL:https://www.elmlakegolfcourse.com/event/birdies-for-brazil/
LOCATION:Elm Lake Golf Course\, 1609 Taylor-Thurston Rd.\, Columbus\, MS\, 39701\, United States
ORGANIZER;CN="Dee Davis":MAILTO:deedavis@cableone.net
END:VEVENT
BEGIN:VEVENT
DTSTART;TZID=America/Toronto:20190502T080000
DTEND;TZID=America/Toronto:20190502T120000
DTSTAMP:20260422T185859
CREATED:20190319T161041Z
LAST-MODIFIED:20190319T170303Z
UID:5073-1556784000-1556798400@www.elmlakegolfcourse.com
SUMMARY:SDI Paintline Corporate Scramble
DESCRIPTION:This is a closed event \nGolf course to be closed until 12:pm noon
URL:https://www.elmlakegolfcourse.com/event/sdi-paintline-corporate-scramble/
LOCATION:Elm Lake Golf Course\, 1609 Taylor-Thurston Rd.\, Columbus\, MS\, 39701\, United States
END:VEVENT
BEGIN:VEVENT
DTSTART;TZID=America/Toronto:20190202T083000
DTEND;TZID=America/Toronto:20190202T173000
DTSTAMP:20260422T185859
CREATED:20190123T144702Z
LAST-MODIFIED:20190123T145008Z
UID:5064-1549096200-1549128600@www.elmlakegolfcourse.com
SUMMARY:Golf Digest Top 100 Fitter - The Club Fix
DESCRIPTION: 
URL:https://www.elmlakegolfcourse.com/event/golf-digest-top-100-fitter-the-club-fix/
LOCATION:Elm Lake Golf Course\, 1609 Taylor-Thurston Rd.\, Columbus\, MS\, 39701\, United States
END:VEVENT
END:VCALENDAR