BEGIN:VCALENDAR
VERSION:2.0
PRODID:-//Elm Lake - ECPv6.15.20//NONSGML v1.0//EN
CALSCALE:GREGORIAN
METHOD:PUBLISH
X-WR-CALNAME:Elm Lake
X-ORIGINAL-URL:https://www.elmlakegolfcourse.com
X-WR-CALDESC:Events for Elm Lake
REFRESH-INTERVAL;VALUE=DURATION:PT1H
X-Robots-Tag:noindex
X-PUBLISHED-TTL:PT1H
BEGIN:VTIMEZONE
TZID:America/Toronto
BEGIN:DAYLIGHT
TZOFFSETFROM:-0500
TZOFFSETTO:-0400
TZNAME:EDT
DTSTART:20180311T070000
END:DAYLIGHT
BEGIN:STANDARD
TZOFFSETFROM:-0400
TZOFFSETTO:-0500
TZNAME:EST
DTSTART:20181104T060000
END:STANDARD
BEGIN:DAYLIGHT
TZOFFSETFROM:-0500
TZOFFSETTO:-0400
TZNAME:EDT
DTSTART:20190310T070000
END:DAYLIGHT
BEGIN:STANDARD
TZOFFSETFROM:-0400
TZOFFSETTO:-0500
TZNAME:EST
DTSTART:20191103T060000
END:STANDARD
BEGIN:DAYLIGHT
TZOFFSETFROM:-0500
TZOFFSETTO:-0400
TZNAME:EDT
DTSTART:20200308T070000
END:DAYLIGHT
BEGIN:STANDARD
TZOFFSETFROM:-0400
TZOFFSETTO:-0500
TZNAME:EST
DTSTART:20201101T060000
END:STANDARD
BEGIN:DAYLIGHT
TZOFFSETFROM:-0500
TZOFFSETTO:-0400
TZNAME:EDT
DTSTART:20210314T070000
END:DAYLIGHT
BEGIN:STANDARD
TZOFFSETFROM:-0400
TZOFFSETTO:-0500
TZNAME:EST
DTSTART:20211107T060000
END:STANDARD
BEGIN:DAYLIGHT
TZOFFSETFROM:-0500
TZOFFSETTO:-0400
TZNAME:EDT
DTSTART:20220313T070000
END:DAYLIGHT
BEGIN:STANDARD
TZOFFSETFROM:-0400
TZOFFSETTO:-0500
TZNAME:EST
DTSTART:20221106T060000
END:STANDARD
END:VTIMEZONE
BEGIN:VEVENT
DTSTART;TZID=America/Toronto:20210612T080000
DTEND;TZID=America/Toronto:20210612T120000
DTSTAMP:20260421T203849
CREATED:20210607T203209Z
LAST-MODIFIED:20210607T203209Z
UID:5455-1623484800-1623499200@www.elmlakegolfcourse.com
SUMMARY:CAFB 48th
DESCRIPTION:48th Squadron of CAFB outing
URL:https://www.elmlakegolfcourse.com/event/cafb-48th/
LOCATION:Elm Lake Golf Course\, 1609 Taylor-Thurston Rd.\, Columbus\, MS\, 39701\, United States
END:VEVENT
BEGIN:VEVENT
DTSTART;TZID=America/Toronto:20210507T140000
DTEND;TZID=America/Toronto:20210507T190000
DTSTAMP:20260421T203849
CREATED:20210223T141629Z
LAST-MODIFIED:20210223T141629Z
UID:5401-1620396000-1620414000@www.elmlakegolfcourse.com
SUMMARY:Titleist Fitting Evnet
DESCRIPTION:
URL:https://www.elmlakegolfcourse.com/event/titleist-fitting-evnet/
LOCATION:Elm Lake Golf Course\, 1609 Taylor-Thurston Rd.\, Columbus\, MS\, 39701\, United States
END:VEVENT
BEGIN:VEVENT
DTSTART;VALUE=DATE:20210503
DTEND;VALUE=DATE:20210505
DTSTAMP:20260421T203849
CREATED:20210223T155505Z
LAST-MODIFIED:20210223T155920Z
UID:5422-1620000000-1620172799@www.elmlakegolfcourse.com
SUMMARY:5A State Golf Matches
DESCRIPTION:Info Sheet
URL:https://www.elmlakegolfcourse.com/event/5a-state-golf-matches/
LOCATION:Elm Lake Golf Course\, 1609 Taylor-Thurston Rd.\, Columbus\, MS\, 39701\, United States
END:VEVENT
BEGIN:VEVENT
DTSTART;TZID=America/Toronto:20210418T100000
DTEND;TZID=America/Toronto:20210418T140000
DTSTAMP:20260421T203849
CREATED:20210329T174952Z
LAST-MODIFIED:20210329T174952Z
UID:5446-1618740000-1618754400@www.elmlakegolfcourse.com
SUMMARY:Cleveland/Srixon Demo Day
DESCRIPTION:
URL:https://www.elmlakegolfcourse.com/event/cleveland-srixon-demo-day/
LOCATION:Elm Lake Golf Course\, 1609 Taylor-Thurston Rd.\, Columbus\, MS\, 39701\, United States
END:VEVENT
BEGIN:VEVENT
DTSTART;TZID=America/Toronto:20210410T120000
DTEND;TZID=America/Toronto:20210410T160000
DTSTAMP:20260421T203849
CREATED:20210128T195641Z
LAST-MODIFIED:20210128T195641Z
UID:5389-1618056000-1618070400@www.elmlakegolfcourse.com
SUMMARY:TaylorMade Fitting Event
DESCRIPTION:https://my.taylormadegolf.com/myFittingExp/event/MJ2G
URL:https://www.elmlakegolfcourse.com/event/taylormade-fitting-event/
LOCATION:Elm Lake Golf Course\, 1609 Taylor-Thurston Rd.\, Columbus\, MS\, 39701\, United States
END:VEVENT
BEGIN:VEVENT
DTSTART;TZID=America/Toronto:20210306T133000
DTEND;TZID=America/Toronto:20210306T173000
DTSTAMP:20260421T203849
CREATED:20210223T151347Z
LAST-MODIFIED:20210223T151347Z
UID:5405-1615037400-1615051800@www.elmlakegolfcourse.com
SUMMARY:The Assembly Scramble
DESCRIPTION:
URL:https://www.elmlakegolfcourse.com/event/the-assembly-scramble/
LOCATION:Elm Lake Golf Course\, 1609 Taylor-Thurston Rd.\, Columbus\, MS\, 39701\, United States
ORGANIZER;CN="Dusty Fields":MAILTO:dustyhfields@yahoo.com
END:VEVENT
BEGIN:VEVENT
DTSTART;TZID=America/Toronto:20201016T130000
DTEND;TZID=America/Toronto:20201016T170000
DTSTAMP:20260421T203849
CREATED:20200305T203927Z
LAST-MODIFIED:20201014T140809Z
UID:5293-1602853200-1602867600@www.elmlakegolfcourse.com
SUMMARY:Owls Athletics Golf Outing
DESCRIPTION:Click HERE to Register
URL:https://www.elmlakegolfcourse.com/event/owls-athletics-golf-outing/
LOCATION:Elm Lake Golf Course\, 1609 Taylor-Thurston Rd.\, Columbus\, MS\, 39701\, United States
END:VEVENT
BEGIN:VEVENT
DTSTART;TZID=America/Toronto:20200830T133000
DTEND;TZID=America/Toronto:20200830T173000
DTSTAMP:20260421T203849
CREATED:20200129T152831Z
LAST-MODIFIED:20200408T154256Z
UID:5216-1598794200-1598808600@www.elmlakegolfcourse.com
SUMMARY:Roast n' Boast 2020 Scramble
DESCRIPTION:
URL:https://www.elmlakegolfcourse.com/event/roast-n-boast-2020-scramble/
LOCATION:Elm Lake Golf Course\, 1609 Taylor-Thurston Rd.\, Columbus\, MS\, 39701\, United States
ORGANIZER;CN="Amber Henson":MAILTO:roastnboastcolumbus@gmail.com
END:VEVENT
BEGIN:VEVENT
DTSTART;TZID=America/Toronto:20200815T083000
DTEND;TZID=America/Toronto:20200815T153000
DTSTAMP:20260421T203849
CREATED:20200129T154539Z
LAST-MODIFIED:20200716T154052Z
UID:5254-1597480200-1597505400@www.elmlakegolfcourse.com
SUMMARY:Match of Honor 2020
DESCRIPTION:
URL:https://www.elmlakegolfcourse.com/event/match-of-honor-2020/
LOCATION:Elm Lake Golf Course\, 1609 Taylor-Thurston Rd.\, Columbus\, MS\, 39701\, United States
END:VEVENT
BEGIN:VEVENT
DTSTART;TZID=America/Toronto:20200720T080000
DTEND;TZID=America/Toronto:20200723T120000
DTSTAMP:20260421T203849
CREATED:20200409T144812Z
LAST-MODIFIED:20200409T144812Z
UID:5347-1595232000-1595505600@www.elmlakegolfcourse.com
SUMMARY:OWls Golf Camp 4
DESCRIPTION:
URL:https://www.elmlakegolfcourse.com/event/owls-golf-camp-4/
LOCATION:Elm Lake Golf Course\, 1609 Taylor-Thurston Rd.\, Columbus\, MS\, 39701\, United States
ORGANIZER;CN="Benji Williams":MAILTO:brwilliams2@muw.edu
END:VEVENT
BEGIN:VEVENT
DTSTART;TZID=America/Toronto:20200713T080000
DTEND;TZID=America/Toronto:20200716T120000
DTSTAMP:20260421T203849
CREATED:20200409T144708Z
LAST-MODIFIED:20200409T144708Z
UID:5344-1594627200-1594900800@www.elmlakegolfcourse.com
SUMMARY:OWLS Golf Camp 3
DESCRIPTION:
URL:https://www.elmlakegolfcourse.com/event/owls-golf-camp-3/
LOCATION:Elm Lake Golf Course\, 1609 Taylor-Thurston Rd.\, Columbus\, MS\, 39701\, United States
ORGANIZER;CN="Benji Williams":MAILTO:brwilliams2@muw.edu
END:VEVENT
BEGIN:VEVENT
DTSTART;VALUE=DATE:20200713
DTEND;VALUE=DATE:20200715
DTSTAMP:20260421T203849
CREATED:20200129T154448Z
LAST-MODIFIED:20200129T154448Z
UID:5251-1594598400-1594771199@www.elmlakegolfcourse.com
SUMMARY:Greens Airification
DESCRIPTION:Monday Front 9\nTuesday Back 9
URL:https://www.elmlakegolfcourse.com/event/greens-airification-2/
LOCATION:Elm Lake Golf Course\, 1609 Taylor-Thurston Rd.\, Columbus\, MS\, 39701\, United States
END:VEVENT
BEGIN:VEVENT
DTSTART;VALUE=DATE:20200711
DTEND;VALUE=DATE:20200713
DTSTAMP:20260421T203849
CREATED:20200129T154334Z
LAST-MODIFIED:20200129T154334Z
UID:5248-1594425600-1594598399@www.elmlakegolfcourse.com
SUMMARY:Club Championship
DESCRIPTION:Saturday Tee Times Start 8am \nSunday Tee Times Start 1pm
URL:https://www.elmlakegolfcourse.com/event/club-championship-2/
LOCATION:Elm Lake Golf Course\, 1609 Taylor-Thurston Rd.\, Columbus\, MS\, 39701\, United States
END:VEVENT
BEGIN:VEVENT
DTSTART;TZID=America/Toronto:20200707T080000
DTEND;TZID=America/Toronto:20200707T170000
DTSTAMP:20260421T203849
CREATED:20200130T170206Z
LAST-MODIFIED:20200130T170651Z
UID:5264-1594108800-1594141200@www.elmlakegolfcourse.com
SUMMARY:Coca Cola Junior Tour
DESCRIPTION:
URL:https://www.elmlakegolfcourse.com/event/coca-cola-junior-tour/
LOCATION:Elm Lake Golf Course\, 1609 Taylor-Thurston Rd.\, Columbus\, MS\, 39701\, United States
ORGANIZER;CN="Coke Tour":MAILTO:jrcoketour@yahoo.com
END:VEVENT
BEGIN:VEVENT
DTSTART;TZID=America/Toronto:20200615T080000
DTEND;TZID=America/Toronto:20200618T120000
DTSTAMP:20260421T203849
CREATED:20200409T144558Z
LAST-MODIFIED:20200409T144558Z
UID:5341-1592208000-1592481600@www.elmlakegolfcourse.com
SUMMARY:OWLS Golf Camp 2
DESCRIPTION:
URL:https://www.elmlakegolfcourse.com/event/owls-golf-camp-2/
LOCATION:Elm Lake Golf Course\, 1609 Taylor-Thurston Rd.\, Columbus\, MS\, 39701\, United States
ORGANIZER;CN="Benji Williams":MAILTO:brwilliams2@muw.edu
END:VEVENT
BEGIN:VEVENT
DTSTART;TZID=America/Toronto:20200608T080000
DTEND;TZID=America/Toronto:20200611T120000
DTSTAMP:20260421T203849
CREATED:20200409T144418Z
LAST-MODIFIED:20200409T144439Z
UID:5335-1591603200-1591876800@www.elmlakegolfcourse.com
SUMMARY:OWLS Golf Camp 1
DESCRIPTION:
URL:https://www.elmlakegolfcourse.com/event/owls-golf-camp/
LOCATION:Elm Lake Golf Course\, 1609 Taylor-Thurston Rd.\, Columbus\, MS\, 39701\, United States
ORGANIZER;CN="Benji Williams":MAILTO:brwilliams2@muw.edu
END:VEVENT
BEGIN:VEVENT
DTSTART;TZID=America/Toronto:20191109T090000
DTEND;TZID=America/Toronto:20191109T130000
DTSTAMP:20260421T203849
CREATED:20190115T201501Z
LAST-MODIFIED:20190930T171753Z
UID:5046-1573290000-1573304400@www.elmlakegolfcourse.com
SUMMARY:National Fallen Fire Fighters Scramble
DESCRIPTION:The NFFF is a 501c3 non-profit organization that helps families of fallen firefighters that perished in the line of duty. Donations go towards scholarships\, household and medical bills as well as sending children to the Hal Bruno Camp. The Hal Bruno Camp is held every year for children of fallen firefighters to go to\, to be with others that have lost loved ones in the line of duty. The foundation helps with travel expenses\, food and lodging. \nClick to Register
URL:https://www.elmlakegolfcourse.com/event/national-fallen-fire-fighters-scramble/
LOCATION:Elm Lake Golf Course\, 1609 Taylor-Thurston Rd.\, Columbus\, MS\, 39701\, United States
ORGANIZER;CN="Calvin Waters":MAILTO:fireguy1199@gmail.com
END:VEVENT
BEGIN:VEVENT
DTSTART;TZID=America/Toronto:20191005T090000
DTEND;TZID=America/Toronto:20191005T130000
DTSTAMP:20260421T203849
CREATED:20190115T201045Z
LAST-MODIFIED:20190115T201101Z
UID:5041-1570266000-1570280400@www.elmlakegolfcourse.com
SUMMARY:ATMAE Scramble
DESCRIPTION:Fundraiser for the Association of Technology\, Management & Applied Engineering student chapter at MSU\, a national student organization for industrial technology students.
URL:https://www.elmlakegolfcourse.com/event/atmae-scramble/
LOCATION:Elm Lake Golf Course\, 1609 Taylor-Thurston Rd.\, Columbus\, MS\, 39701\, United States
ORGANIZER;CN="Mickey Giordano":MAILTO:mgiordano@colled.msstate.edu
END:VEVENT
BEGIN:VEVENT
DTSTART;TZID=America/Toronto:20190811T090000
DTEND;TZID=America/Toronto:20190811T130000
DTSTAMP:20260421T203849
CREATED:20190319T170147Z
LAST-MODIFIED:20190319T170147Z
UID:5101-1565514000-1565528400@www.elmlakegolfcourse.com
SUMMARY:Battle of the Ages
DESCRIPTION:A member only event where age groups (by decade) play against other groups for a team score
URL:https://www.elmlakegolfcourse.com/event/battle-of-the-ages/
LOCATION:Elm Lake Golf Course\, 1609 Taylor-Thurston Rd.\, Columbus\, MS\, 39701\, United States
END:VEVENT
BEGIN:VEVENT
DTSTART;VALUE=DATE:20190715
DTEND;VALUE=DATE:20190717
DTSTAMP:20260421T203849
CREATED:20190115T200656Z
LAST-MODIFIED:20190115T200656Z
UID:5038-1563148800-1563321599@www.elmlakegolfcourse.com
SUMMARY:Greens Airification
DESCRIPTION:
URL:https://www.elmlakegolfcourse.com/event/greens-airification/
LOCATION:Elm Lake Golf Course\, 1609 Taylor-Thurston Rd.\, Columbus\, MS\, 39701\, United States
END:VEVENT
BEGIN:VEVENT
DTSTART;VALUE=DATE:20190712
DTEND;VALUE=DATE:20190715
DTSTAMP:20260421T203849
CREATED:20190115T200442Z
LAST-MODIFIED:20190115T200442Z
UID:5033-1562889600-1563148799@www.elmlakegolfcourse.com
SUMMARY:Club Championship
DESCRIPTION:Club Champ info
URL:https://www.elmlakegolfcourse.com/event/club-championship/
LOCATION:Elm Lake Golf Course\, 1609 Taylor-Thurston Rd.\, Columbus\, MS\, 39701\, United States
ORGANIZER;CN="Elm Lake":MAILTO:jhanko@pga.com
END:VEVENT
BEGIN:VEVENT
DTSTART;TZID=America/Toronto:20190708T080000
DTEND;TZID=America/Toronto:20190708T140000
DTSTAMP:20260421T203849
CREATED:20190115T200045Z
LAST-MODIFIED:20190319T171322Z
UID:5028-1562572800-1562594400@www.elmlakegolfcourse.com
SUMMARY:Coca-Cola Junior Golf Tour
DESCRIPTION:
URL:https://www.elmlakegolfcourse.com/event/coca-cola-junior-golf-tour/
LOCATION:Elm Lake Golf Course\, 1609 Taylor-Thurston Rd.\, Columbus\, MS\, 39701\, United States
ORGANIZER;CN="Coke Tour":MAILTO:jrcoketour@yahoo.com
END:VEVENT
BEGIN:VEVENT
DTSTART;TZID=America/Toronto:20190706T130000
DTEND;TZID=America/Toronto:20190706T170000
DTSTAMP:20260421T203849
CREATED:20190319T165606Z
LAST-MODIFIED:20190607T192814Z
UID:5094-1562418000-1562432400@www.elmlakegolfcourse.com
SUMMARY:Thomas for St.Jude Scramble
DESCRIPTION:Signup \n4 Player scramble
URL:https://www.elmlakegolfcourse.com/event/tees-for-st-jude-scramble/
LOCATION:Elm Lake Golf Course\, 1609 Taylor-Thurston Rd.\, Columbus\, MS\, 39701\, United States
END:VEVENT
BEGIN:VEVENT
DTSTART;TZID=America/Toronto:20190622T080000
DTEND;TZID=America/Toronto:20190623T170000
DTSTAMP:20260421T203849
CREATED:20190319T165717Z
LAST-MODIFIED:20190411T182110Z
UID:5097-1561190400-1561309200@www.elmlakegolfcourse.com
SUMMARY:Golden Triangle 6 Man Scramble
DESCRIPTION:Signup \n2 Day – 6 player scramble
URL:https://www.elmlakegolfcourse.com/event/golden-triangle-6-man-scramble/
LOCATION:Elm Lake Golf Course\, 1609 Taylor-Thurston Rd.\, Columbus\, MS\, 39701\, United States
END:VEVENT
BEGIN:VEVENT
DTSTART;TZID=America/Toronto:20190602T130000
DTEND;TZID=America/Toronto:20190602T170000
DTSTAMP:20260421T203849
CREATED:20190115T195426Z
LAST-MODIFIED:20190524T145238Z
UID:5024-1559480400-1559494800@www.elmlakegolfcourse.com
SUMMARY:Roast n' Boast Scramble
DESCRIPTION:Signup \n4 Player Scramble\nBenefitting St.Jude Childrens Hospital
URL:https://www.elmlakegolfcourse.com/event/roast-n-boast-scramble/
LOCATION:Elm Lake Golf Course\, 1609 Taylor-Thurston Rd.\, Columbus\, MS\, 39701\, United States
ORGANIZER;CN="Mike Law":MAILTO:mikelaw724@gmail.com
END:VEVENT
BEGIN:VEVENT
DTSTART;TZID=America/Toronto:20190601T133000
DTEND;TZID=America/Toronto:20190601T193000
DTSTAMP:20260421T203849
CREATED:20190319T162434Z
LAST-MODIFIED:20190411T182457Z
UID:5090-1559395800-1559417400@www.elmlakegolfcourse.com
SUMMARY:Swings for Scholarships Scramble
DESCRIPTION:1stAnnual golf scramble benefiting the Jim Spruiell Memorial Scholarship Fund. \nhttp://nmhsfoundation.org/swings-for-scholarships/ \nTIME:         Registration starts at noon.  Tee-off at 1:30 PM \nENTRY FEE:    $300.00(includes: 4-man team\, green fees\, cart & snacks) \nEvening Event:  Crawfish boil with live music immediately following the closure of the tournament.  All team winners and raffle prizes will be announced during the evening event. (Golf team registration does not include evening event tickets) \nEvening Event Tickets: $20 per person (You do not have to participate in the golf tournament to attend the evening event) \n4-MAN SCRAMBLE EVENING RECEPTION WITH LIVE MUSIC AND FOOD PRIZES FOR 1ST\, 2ND  & 3RD PLACE \nRAFFLES AND MANY OTHER WAYS TO WIN
URL:https://www.elmlakegolfcourse.com/event/swings-for-scholarships-scramble/
LOCATION:Elm Lake Golf Course\, 1609 Taylor-Thurston Rd.\, Columbus\, MS\, 39701\, United States
ORGANIZER;CN="Sam Marshall":MAILTO:smarshall@umc.edu
END:VEVENT
BEGIN:VEVENT
DTSTART;TZID=America/Toronto:20190515T123000
DTEND;TZID=America/Toronto:20190515T173000
DTSTAMP:20260421T203849
CREATED:20190319T162103Z
LAST-MODIFIED:20190319T170651Z
UID:5087-1557923400-1557941400@www.elmlakegolfcourse.com
SUMMARY:Greg Andrews Invitational
DESCRIPTION:Invitational – Closed Event
URL:https://www.elmlakegolfcourse.com/event/greg-andrews-invitational/
LOCATION:Elm Lake Golf Course\, 1609 Taylor-Thurston Rd.\, Columbus\, MS\, 39701\, United States
END:VEVENT
BEGIN:VEVENT
DTSTART;TZID=America/Toronto:20190514T080000
DTEND;TZID=America/Toronto:20190514T120000
DTSTAMP:20260421T203849
CREATED:20190319T161140Z
LAST-MODIFIED:20190319T170601Z
UID:5076-1557820800-1557835200@www.elmlakegolfcourse.com
SUMMARY:SDI Paintline Corporate Scramble
DESCRIPTION:Corporate Scramble for SDI \nCourse Closed until 12:00pm Noon
URL:https://www.elmlakegolfcourse.com/event/sdi-paintline-corporate-scramble-2/
LOCATION:Elm Lake Golf Course\, 1609 Taylor-Thurston Rd.\, Columbus\, MS\, 39701\, United States
END:VEVENT
BEGIN:VEVENT
DTSTART;TZID=America/Toronto:20190507T070000
DTEND;TZID=America/Toronto:20190507T140000
DTSTAMP:20260421T203849
CREATED:20190319T161911Z
LAST-MODIFIED:20190411T183043Z
UID:5084-1557212400-1557237600@www.elmlakegolfcourse.com
SUMMARY:MHSAA 4A State Boys Golf Match 2 Days
DESCRIPTION:Course Closed until 2:00pm both days \nSpectators Welcome \nGolf Carts rented for $30\, first come first serve \nInfo Sheet
URL:https://www.elmlakegolfcourse.com/event/mhsaa-4a-state-boys-golf-match-2-days/
LOCATION:Elm Lake Golf Course\, 1609 Taylor-Thurston Rd.\, Columbus\, MS\, 39701\, United States
END:VEVENT
BEGIN:VEVENT
DTSTART;TZID=America/Toronto:20190506T070000
DTEND;TZID=America/Toronto:20190506T140000
DTSTAMP:20260421T203849
CREATED:20190319T161806Z
LAST-MODIFIED:20190319T170435Z
UID:5081-1557126000-1557151200@www.elmlakegolfcourse.com
SUMMARY:MHSAA 4A Boys Sate Golf Match 2 Days
DESCRIPTION:Course Closed until 2:00pm both days \nSpectators Welcome \nGolf Carts rented for $30\, first come first serve
URL:https://www.elmlakegolfcourse.com/event/mhsaa-4a-boys-sate-golf-match-2-days/
LOCATION:Elm Lake Golf Course\, 1609 Taylor-Thurston Rd.\, Columbus\, MS\, 39701\, United States
END:VEVENT
END:VCALENDAR