BEGIN:VCALENDAR
VERSION:2.0
PRODID:-//Elm Lake - ECPv6.15.20//NONSGML v1.0//EN
CALSCALE:GREGORIAN
METHOD:PUBLISH
X-ORIGINAL-URL:https://www.elmlakegolfcourse.com
X-WR-CALDESC:Events for Elm Lake
REFRESH-INTERVAL;VALUE=DURATION:PT1H
X-Robots-Tag:noindex
X-PUBLISHED-TTL:PT1H
BEGIN:VTIMEZONE
TZID:America/Toronto
BEGIN:DAYLIGHT
TZOFFSETFROM:-0500
TZOFFSETTO:-0400
TZNAME:EDT
DTSTART:20250309T070000
END:DAYLIGHT
BEGIN:STANDARD
TZOFFSETFROM:-0400
TZOFFSETTO:-0500
TZNAME:EST
DTSTART:20251102T060000
END:STANDARD
BEGIN:DAYLIGHT
TZOFFSETFROM:-0500
TZOFFSETTO:-0400
TZNAME:EDT
DTSTART:20260308T070000
END:DAYLIGHT
BEGIN:STANDARD
TZOFFSETFROM:-0400
TZOFFSETTO:-0500
TZNAME:EST
DTSTART:20261101T060000
END:STANDARD
BEGIN:DAYLIGHT
TZOFFSETFROM:-0500
TZOFFSETTO:-0400
TZNAME:EDT
DTSTART:20270314T070000
END:DAYLIGHT
BEGIN:STANDARD
TZOFFSETFROM:-0400
TZOFFSETTO:-0500
TZNAME:EST
DTSTART:20271107T060000
END:STANDARD
END:VTIMEZONE
BEGIN:VEVENT
DTSTART;TZID=America/Toronto:20260608T083000
DTEND;TZID=America/Toronto:20260608T130000
DTSTAMP:20260422T185610
CREATED:20260325T141231Z
LAST-MODIFIED:20260415T171023Z
UID:5867-1780907400-1780923600@www.elmlakegolfcourse.com
SUMMARY:The Assembly - Postponed to June 8th
DESCRIPTION:
URL:https://www.elmlakegolfcourse.com/event/the-assembly-monday-april-27th/
LOCATION:Elm Lake Golf Course\, 1609 Taylor-Thurston Rd.\, Columbus\, MS\, 39701\, United States
ORGANIZER;CN="Dusty Fields":MAILTO:dustyhfields@yahoo.com
END:VEVENT
BEGIN:VEVENT
DTSTART;VALUE=DATE:20260731
DTEND;VALUE=DATE:20260803
DTSTAMP:20260422T185610
CREATED:20260325T142602Z
LAST-MODIFIED:20260325T142602Z
UID:5887-1785456000-1785715199@www.elmlakegolfcourse.com
SUMMARY:Club Championship - Friday to Sunday\, July 31st to August 2nd
DESCRIPTION:Friday – Par 3 Contest & Calcutta \nSaturday – First Round (Morning Start) \nSunday – Final Round (Afternoon Start)
URL:https://www.elmlakegolfcourse.com/event/club-championship-friday-to-sunday-july-31st-to-august-2nd/
LOCATION:MS
END:VEVENT
BEGIN:VEVENT
DTSTART;VALUE=DATE:20260912
DTEND;VALUE=DATE:20260914
DTSTAMP:20260422T185610
CREATED:20260325T142914Z
LAST-MODIFIED:20260325T142914Z
UID:5890-1789171200-1789343999@www.elmlakegolfcourse.com
SUMMARY:Member Guest - Saturday & Sunday\, September 12th & 13th
DESCRIPTION:Saturday – First Round\, Dinner\, & Calcutta \nSunday – Final Round
URL:https://www.elmlakegolfcourse.com/event/member-guest-saturday-sunday-september-12th-13th/
LOCATION:MS
END:VEVENT
BEGIN:VEVENT
DTSTART;VALUE=DATE:20261010
DTEND;VALUE=DATE:20261012
DTSTAMP:20260422T185610
CREATED:20260325T143119Z
LAST-MODIFIED:20260325T143140Z
UID:5896-1791590400-1791763199@www.elmlakegolfcourse.com
SUMMARY:Tupelo Inner Club - Saturday & Sunday\, October 10th & 11th
DESCRIPTION:Saturday – Away \nSunday – Home
URL:https://www.elmlakegolfcourse.com/event/tupelo-inner-club-saturday-sunday-october-10th-11th/
LOCATION:MS
END:VEVENT
BEGIN:VEVENT
DTSTART;TZID=America/Toronto:20261016T083000
DTEND;TZID=America/Toronto:20261016T130000
DTSTAMP:20260422T185610
CREATED:20260325T143301Z
LAST-MODIFIED:20260325T143521Z
UID:5899-1792139400-1792155600@www.elmlakegolfcourse.com
SUMMARY:Owls Athletics Outing - Friday October 16th
DESCRIPTION:
URL:https://www.elmlakegolfcourse.com/event/muw-fundraiser-friday-october-16th/
LOCATION:Elm Lake Golf Course\, 1609 Taylor-Thurston Rd.\, Columbus\, MS\, 39701\, United States
END:VEVENT
BEGIN:VEVENT
DTSTART;TZID=America/Toronto:20261030T133000
DTEND;TZID=America/Toronto:20261030T180000
DTSTAMP:20260422T185610
CREATED:20260325T143017Z
LAST-MODIFIED:20260325T143017Z
UID:5893-1793367000-1793383200@www.elmlakegolfcourse.com
SUMMARY:IP United Way - Friday October 30th
DESCRIPTION:
URL:https://www.elmlakegolfcourse.com/event/ip-united-way-friday-october-30th/
LOCATION:MS
END:VEVENT
BEGIN:VEVENT
DTSTART;TZID=America/Toronto:20261111T083000
DTEND;TZID=America/Toronto:20261111T130000
DTSTAMP:20260422T185610
CREATED:20260325T143359Z
LAST-MODIFIED:20260325T143359Z
UID:5902-1794385800-1794402000@www.elmlakegolfcourse.com
SUMMARY:Veterans Day Scramble - Wednesday November 11th
DESCRIPTION:
URL:https://www.elmlakegolfcourse.com/event/veterans-day-scramble-wednesday-november-11th/
LOCATION:MS
END:VEVENT
END:VCALENDAR