BEGIN:VCALENDAR
VERSION:2.0
PRODID:-//Elm Lake - ECPv6.15.20//NONSGML v1.0//EN
CALSCALE:GREGORIAN
METHOD:PUBLISH
X-WR-CALNAME:Elm Lake
X-ORIGINAL-URL:https://www.elmlakegolfcourse.com
X-WR-CALDESC:Events for Elm Lake
REFRESH-INTERVAL;VALUE=DURATION:PT1H
X-Robots-Tag:noindex
X-PUBLISHED-TTL:PT1H
BEGIN:VTIMEZONE
TZID:America/Toronto
BEGIN:DAYLIGHT
TZOFFSETFROM:-0500
TZOFFSETTO:-0400
TZNAME:EDT
DTSTART:20210314T070000
END:DAYLIGHT
BEGIN:STANDARD
TZOFFSETFROM:-0400
TZOFFSETTO:-0500
TZNAME:EST
DTSTART:20211107T060000
END:STANDARD
BEGIN:DAYLIGHT
TZOFFSETFROM:-0500
TZOFFSETTO:-0400
TZNAME:EDT
DTSTART:20220313T070000
END:DAYLIGHT
BEGIN:STANDARD
TZOFFSETFROM:-0400
TZOFFSETTO:-0500
TZNAME:EST
DTSTART:20221106T060000
END:STANDARD
BEGIN:DAYLIGHT
TZOFFSETFROM:-0500
TZOFFSETTO:-0400
TZNAME:EDT
DTSTART:20230312T070000
END:DAYLIGHT
BEGIN:STANDARD
TZOFFSETFROM:-0400
TZOFFSETTO:-0500
TZNAME:EST
DTSTART:20231105T060000
END:STANDARD
BEGIN:DAYLIGHT
TZOFFSETFROM:-0500
TZOFFSETTO:-0400
TZNAME:EDT
DTSTART:20240310T070000
END:DAYLIGHT
BEGIN:STANDARD
TZOFFSETFROM:-0400
TZOFFSETTO:-0500
TZNAME:EST
DTSTART:20241103T060000
END:STANDARD
BEGIN:DAYLIGHT
TZOFFSETFROM:-0500
TZOFFSETTO:-0400
TZNAME:EDT
DTSTART:20250309T070000
END:DAYLIGHT
BEGIN:STANDARD
TZOFFSETFROM:-0400
TZOFFSETTO:-0500
TZNAME:EST
DTSTART:20251102T060000
END:STANDARD
END:VTIMEZONE
BEGIN:VEVENT
DTSTART;VALUE=DATE:20240607
DTEND;VALUE=DATE:20240608
DTSTAMP:20260422T185424
CREATED:20240124T172620Z
LAST-MODIFIED:20240124T172620Z
UID:5710-1717718400-1717804799@www.elmlakegolfcourse.com
SUMMARY:MUW Owls Athletics Outing
DESCRIPTION:8:30 am Shotgun \n1:00pm Shotgun
URL:https://www.elmlakegolfcourse.com/event/muw-owls-athletics-outing-2/
LOCATION:Elm Lake Golf Course\, 1609 Taylor-Thurston Rd.\, Columbus\, MS\, 39701\, United States
ORGANIZER;CN="Benji Williams":MAILTO:brwilliams2@muw.edu
END:VEVENT
BEGIN:VEVENT
DTSTART;TZID=America/Toronto:20240323T130000
DTEND;TZID=America/Toronto:20240323T170000
DTSTAMP:20260422T185424
CREATED:20240326T162228Z
LAST-MODIFIED:20240326T170348Z
UID:5722-1711198800-1711213200@www.elmlakegolfcourse.com
SUMMARY:Trinity Place Scramble
DESCRIPTION:
URL:https://www.elmlakegolfcourse.com/event/trinity-place-scramble-2/
LOCATION:Elm Lake Golf Course\, 1609 Taylor-Thurston Rd.\, Columbus\, MS\, 39701\, United States
ORGANIZER;CN="Rhonda Richardson":MAILTO:rhonda.richardson@mss-trinity.org
END:VEVENT
BEGIN:VEVENT
DTSTART;TZID=America/Toronto:20231014T083000
DTEND;TZID=America/Toronto:20231014T220000
DTSTAMP:20260422T185424
CREATED:20230125T155917Z
LAST-MODIFIED:20230125T155917Z
UID:5663-1697272200-1697320800@www.elmlakegolfcourse.com
SUMMARY:Tupelo Inner Club
DESCRIPTION:
URL:https://www.elmlakegolfcourse.com/event/tupelo-inner-club/
LOCATION:Elm Lake Golf Course\, 1609 Taylor-Thurston Rd.\, Columbus\, MS\, 39701\, United States
ORGANIZER;CN="Dylan Cash":MAILTO:Dylancashh@yahoo.com
END:VEVENT
BEGIN:VEVENT
DTSTART;TZID=America/Toronto:20230913T130000
DTEND;TZID=America/Toronto:20230913T190000
DTSTAMP:20260422T185424
CREATED:20230803T211022Z
LAST-MODIFIED:20230803T211022Z
UID:5682-1694610000-1694631600@www.elmlakegolfcourse.com
SUMMARY:Titleist Fitting/Demo Day
DESCRIPTION: 
URL:https://www.elmlakegolfcourse.com/event/titleist-fitting-demo-day-2/
LOCATION:Elm Lake Golf Course\, 1609 Taylor-Thurston Rd.\, Columbus\, MS\, 39701\, United States
END:VEVENT
BEGIN:VEVENT
DTSTART;TZID=America/Toronto:20230912T120000
DTEND;TZID=America/Toronto:20230912T160000
DTSTAMP:20260422T185424
CREATED:20230828T123107Z
LAST-MODIFIED:20230828T123107Z
UID:5686-1694520000-1694534400@www.elmlakegolfcourse.com
SUMMARY:TaylorMade Fitting Event
DESCRIPTION:
URL:https://www.elmlakegolfcourse.com/event/taylormade-fitting-event-2/
LOCATION:Elm Lake Golf Course\, 1609 Taylor-Thurston Rd.\, Columbus\, MS\, 39701\, United States
END:VEVENT
BEGIN:VEVENT
DTSTART;TZID=America/Toronto:20230825T013000
DTEND;TZID=America/Toronto:20230825T170000
DTSTAMP:20260422T185424
CREATED:20230125T155621Z
LAST-MODIFIED:20230125T155621Z
UID:5659-1692927000-1692982800@www.elmlakegolfcourse.com
SUMMARY:IP United Way Tournament
DESCRIPTION:
URL:https://www.elmlakegolfcourse.com/event/ip-united-way-tournament/
LOCATION:Elm Lake Golf Course\, 1609 Taylor-Thurston Rd.\, Columbus\, MS\, 39701\, United States
ORGANIZER;CN="Kellum Hawk":MAILTO:kellum.hawk@ipaper.com
END:VEVENT
BEGIN:VEVENT
DTSTART;TZID=America/Toronto:20230812T083000
DTEND;TZID=America/Toronto:20230812T220000
DTSTAMP:20260422T185424
CREATED:20230125T155208Z
LAST-MODIFIED:20230125T155208Z
UID:5656-1691829000-1691877600@www.elmlakegolfcourse.com
SUMMARY:Match Of Honor
DESCRIPTION:
URL:https://www.elmlakegolfcourse.com/event/match-of-honor-2/
LOCATION:Elm Lake Golf Course\, 1609 Taylor-Thurston Rd.\, Columbus\, MS\, 39701\, United States
ORGANIZER;CN="Dylan Cash":MAILTO:Dylancashh@yahoo.com
END:VEVENT
BEGIN:VEVENT
DTSTART;TZID=America/Toronto:20230717T080000
DTEND;TZID=America/Toronto:20230719T110000
DTSTAMP:20260422T185424
CREATED:20230310T160807Z
LAST-MODIFIED:20230310T160807Z
UID:5679-1689580800-1689764400@www.elmlakegolfcourse.com
SUMMARY:Junior Golf Clinic
DESCRIPTION:
URL:https://www.elmlakegolfcourse.com/event/junior-golf-clinic-2/
LOCATION:Elm Lake Golf Course\, 1609 Taylor-Thurston Rd.\, Columbus\, MS\, 39701\, United States
ORGANIZER;CN="Erika Scott%2C PGA":MAILTO:escott@business.msstate.edu
END:VEVENT
BEGIN:VEVENT
DTSTART;VALUE=DATE:20230711
DTEND;VALUE=DATE:20230712
DTSTAMP:20260422T185424
CREATED:20230125T155032Z
LAST-MODIFIED:20230125T155032Z
UID:5653-1689033600-1689119999@www.elmlakegolfcourse.com
SUMMARY:Back 9 Greens Airification
DESCRIPTION:
URL:https://www.elmlakegolfcourse.com/event/back-9-greens-airification/
LOCATION:Elm Lake Golf Course\, 1609 Taylor-Thurston Rd.\, Columbus\, MS\, 39701\, United States
ORGANIZER;CN="Dylan Cash":MAILTO:Dylancashh@yahoo.com
END:VEVENT
BEGIN:VEVENT
DTSTART;VALUE=DATE:20230710
DTEND;VALUE=DATE:20230711
DTSTAMP:20260422T185424
CREATED:20230125T154448Z
LAST-MODIFIED:20230125T154448Z
UID:5650-1688947200-1689033599@www.elmlakegolfcourse.com
SUMMARY:Front 9 Greens Airification
DESCRIPTION:
URL:https://www.elmlakegolfcourse.com/event/front-9-greens-airification/
LOCATION:Elm Lake Golf Course\, 1609 Taylor-Thurston Rd.\, Columbus\, MS\, 39701\, United States
ORGANIZER;CN="Dylan Cash":MAILTO:Dylancashh@yahoo.com
END:VEVENT
BEGIN:VEVENT
DTSTART;TZID=America/Toronto:20230709T120000
DTEND;TZID=America/Toronto:20230709T140000
DTSTAMP:20260422T185424
CREATED:20230125T154148Z
LAST-MODIFIED:20230125T154148Z
UID:5645-1688904000-1688911200@www.elmlakegolfcourse.com
SUMMARY:Elm Lake Club Championship
DESCRIPTION:
URL:https://www.elmlakegolfcourse.com/event/elm-lake-club-championship-2/
LOCATION:Elm Lake Golf Course\, 1609 Taylor-Thurston Rd.\, Columbus\, MS\, 39701\, United States
ORGANIZER;CN="Dylan Cash":MAILTO:Dylancashh@yahoo.com
END:VEVENT
BEGIN:VEVENT
DTSTART;TZID=America/Toronto:20230708T080000
DTEND;TZID=America/Toronto:20230708T100000
DTSTAMP:20260422T185424
CREATED:20230125T154018Z
LAST-MODIFIED:20230125T154018Z
UID:5642-1688803200-1688810400@www.elmlakegolfcourse.com
SUMMARY:Elm Lake Club Championship
DESCRIPTION:
URL:https://www.elmlakegolfcourse.com/event/elm-lake-club-championship/
LOCATION:Elm Lake Golf Course\, 1609 Taylor-Thurston Rd.\, Columbus\, MS\, 39701\, United States
ORGANIZER;CN="Dylan Cash":MAILTO:Dylancashh@yahoo.com
END:VEVENT
BEGIN:VEVENT
DTSTART;TZID=America/Toronto:20230605T080000
DTEND;TZID=America/Toronto:20230607T110000
DTSTAMP:20260422T185424
CREATED:20230310T160647Z
LAST-MODIFIED:20230310T160647Z
UID:5675-1685952000-1686135600@www.elmlakegolfcourse.com
SUMMARY:Junior Golf Clinic
DESCRIPTION:
URL:https://www.elmlakegolfcourse.com/event/junior-golf-clinic/
LOCATION:Elm Lake Golf Course\, 1609 Taylor-Thurston Rd.\, Columbus\, MS\, 39701\, United States
ORGANIZER;CN="Erika Scott%2C PGA":MAILTO:escott@business.msstate.edu
END:VEVENT
BEGIN:VEVENT
DTSTART;VALUE=DATE:20230602
DTEND;VALUE=DATE:20230603
DTSTAMP:20260422T185424
CREATED:20230125T153221Z
LAST-MODIFIED:20230125T154233Z
UID:5636-1685664000-1685750399@www.elmlakegolfcourse.com
SUMMARY:MUW Owls Athletics Outing
DESCRIPTION:
URL:https://www.elmlakegolfcourse.com/event/muw-owls-athletics-outing/
LOCATION:Elm Lake Golf Course\, 1609 Taylor-Thurston Rd.\, Columbus\, MS\, 39701\, United States
ORGANIZER;CN="Benji Williams":MAILTO:brwilliams2@muw.edu
END:VEVENT
BEGIN:VEVENT
DTSTART;TZID=America/Toronto:20230525T133000
DTEND;TZID=America/Toronto:20230525T193000
DTSTAMP:20260422T185424
CREATED:20230125T153113Z
LAST-MODIFIED:20230125T153113Z
UID:5633-1685021400-1685043000@www.elmlakegolfcourse.com
SUMMARY:Trinity Place Scramble
DESCRIPTION:
URL:https://www.elmlakegolfcourse.com/event/trinity-place-scramble/
LOCATION:Elm Lake Golf Course\, 1609 Taylor-Thurston Rd.\, Columbus\, MS\, 39701\, United States
ORGANIZER;CN="Dylan Cash":MAILTO:Dylancashh@yahoo.com
END:VEVENT
BEGIN:VEVENT
DTSTART;TZID=America/Toronto:20230518T120000
DTEND;TZID=America/Toronto:20230518T180000
DTSTAMP:20260422T185424
CREATED:20230125T152819Z
LAST-MODIFIED:20230125T152819Z
UID:5630-1684411200-1684432800@www.elmlakegolfcourse.com
SUMMARY:Titleist Fitting Event
DESCRIPTION:
URL:https://www.elmlakegolfcourse.com/event/titleist-fitting-event/
ORGANIZER;CN="Dylan Cash":MAILTO:Dylancashh@yahoo.com
END:VEVENT
BEGIN:VEVENT
DTSTART;TZID=America/Toronto:20230505T110000
DTEND;TZID=America/Toronto:20230505T150000
DTSTAMP:20260422T185424
CREATED:20230125T152541Z
LAST-MODIFIED:20230125T152541Z
UID:5627-1683284400-1683298800@www.elmlakegolfcourse.com
SUMMARY:Callaway Demo Day
DESCRIPTION:
URL:https://www.elmlakegolfcourse.com/event/callaway-demo-day/
LOCATION:Elm Lake Golf Course\, 1609 Taylor-Thurston Rd.\, Columbus\, MS\, 39701\, United States
ORGANIZER;CN="Dylan Cash":MAILTO:Dylancashh@yahoo.com
END:VEVENT
BEGIN:VEVENT
DTSTART;TZID=America/Toronto:20230414T120000
DTEND;TZID=America/Toronto:20230414T160000
DTSTAMP:20260422T185424
CREATED:20230125T151608Z
LAST-MODIFIED:20230125T151608Z
UID:5622-1681473600-1681488000@www.elmlakegolfcourse.com
SUMMARY:TaylorMade Fitting Day
DESCRIPTION:Signup for YOUR Fitting
URL:https://www.elmlakegolfcourse.com/event/taylormade-fitting-day-3/
LOCATION:Elm Lake Golf Course\, 1609 Taylor-Thurston Rd.\, Columbus\, MS\, 39701\, United States
ORGANIZER;CN="Dylan Cash":MAILTO:Dylancashh@yahoo.com
END:VEVENT
BEGIN:VEVENT
DTSTART;TZID=America/Toronto:20221023T083000
DTEND;TZID=America/Toronto:20221023T140000
DTSTAMP:20260422T185424
CREATED:20220101T163337Z
LAST-MODIFIED:20220101T163337Z
UID:5513-1666513800-1666533600@www.elmlakegolfcourse.com
SUMMARY:Inner Club vs Tupelo National
DESCRIPTION:
URL:https://www.elmlakegolfcourse.com/event/inner-club-vs-tupelo-national/
LOCATION:Elm Lake Golf Course\, 1609 Taylor-Thurston Rd.\, Columbus\, MS\, 39701\, United States
END:VEVENT
BEGIN:VEVENT
DTSTART;TZID=America/Toronto:20221021T133000
DTEND;TZID=America/Toronto:20221021T173000
DTSTAMP:20260422T185424
CREATED:20220201T160809Z
LAST-MODIFIED:20220201T160834Z
UID:5528-1666359000-1666373400@www.elmlakegolfcourse.com
SUMMARY:Fire Bible Scramble
DESCRIPTION:4 Player scramble
URL:https://www.elmlakegolfcourse.com/event/fire-bible-scramble-2/
LOCATION:Elm Lake Golf Course\, 1609 Taylor-Thurston Rd.\, Columbus\, MS\, 39701\, United States
ORGANIZER;CN="Dusty Fields":MAILTO:dustyhfields@yahoo.com
END:VEVENT
BEGIN:VEVENT
DTSTART;TZID=America/Toronto:20221014T120000
DTEND;TZID=America/Toronto:20221014T170000
DTSTAMP:20260422T185424
CREATED:20220817T144719Z
LAST-MODIFIED:20220817T144841Z
UID:5604-1665748800-1665766800@www.elmlakegolfcourse.com
SUMMARY:Titleist Fitting/Demo Day
DESCRIPTION:
URL:https://www.elmlakegolfcourse.com/event/titleist-fitting-demo-day/
LOCATION:Elm Lake Golf Course\, 1609 Taylor-Thurston Rd.\, Columbus\, MS\, 39701\, United States
END:VEVENT
BEGIN:VEVENT
DTSTART;VALUE=DATE:20220906
DTEND;VALUE=DATE:20220908
DTSTAMP:20260422T185424
CREATED:20220101T163224Z
LAST-MODIFIED:20220101T163224Z
UID:5510-1662422400-1662595199@www.elmlakegolfcourse.com
SUMMARY:Greens Core Airification #2
DESCRIPTION:
URL:https://www.elmlakegolfcourse.com/event/greens-core-airification-2/
LOCATION:Elm Lake Golf Course\, 1609 Taylor-Thurston Rd.\, Columbus\, MS\, 39701\, United States
END:VEVENT
BEGIN:VEVENT
DTSTART;TZID=America/Toronto:20220813T083000
DTEND;TZID=America/Toronto:20220813T153000
DTSTAMP:20260422T185424
CREATED:20220101T163139Z
LAST-MODIFIED:20220101T163139Z
UID:5507-1660379400-1660404600@www.elmlakegolfcourse.com
SUMMARY:Match of Honor - 27 Holes
DESCRIPTION:
URL:https://www.elmlakegolfcourse.com/event/match-of-honor-27-holes/
LOCATION:Elm Lake Golf Course\, 1609 Taylor-Thurston Rd.\, Columbus\, MS\, 39701\, United States
END:VEVENT
BEGIN:VEVENT
DTSTART;TZID=America/Toronto:20220725T080000
DTEND;TZID=America/Toronto:20220727T110000
DTSTAMP:20260422T185424
CREATED:20220310T155633Z
LAST-MODIFIED:20220310T155633Z
UID:5584-1658736000-1658919600@www.elmlakegolfcourse.com
SUMMARY:Junior Golf Camp
DESCRIPTION:
URL:https://www.elmlakegolfcourse.com/event/junior-golf-camp-5/
LOCATION:Elm Lake Golf Course\, 1609 Taylor-Thurston Rd.\, Columbus\, MS\, 39701\, United States
ORGANIZER;CN="Erika Scott%2C PGA":MAILTO:escott@business.msstate.edu
END:VEVENT
BEGIN:VEVENT
DTSTART;TZID=America/Toronto:20220718T080000
DTEND;TZID=America/Toronto:20220721T120000
DTSTAMP:20260422T185424
CREATED:20220308T192415Z
LAST-MODIFIED:20220308T192415Z
UID:5573-1658131200-1658404800@www.elmlakegolfcourse.com
SUMMARY:Junior Golf Camp
DESCRIPTION:
URL:https://www.elmlakegolfcourse.com/event/junior-golf-camp-3/
LOCATION:Elm Lake Golf Course\, 1609 Taylor-Thurston Rd.\, Columbus\, MS\, 39701\, United States
ORGANIZER;CN="Benji Williams":MAILTO:brwilliams2@muw.edu
END:VEVENT
BEGIN:VEVENT
DTSTART;TZID=America/Toronto:20220711T080000
DTEND;TZID=America/Toronto:20220714T120000
DTSTAMP:20260422T185424
CREATED:20220308T192320Z
LAST-MODIFIED:20220308T192320Z
UID:5570-1657526400-1657800000@www.elmlakegolfcourse.com
SUMMARY:Junior Golf Camp
DESCRIPTION:
URL:https://www.elmlakegolfcourse.com/event/junior-golf-camp-2/
LOCATION:Elm Lake Golf Course\, 1609 Taylor-Thurston Rd.\, Columbus\, MS\, 39701\, United States
ORGANIZER;CN="Benji Williams":MAILTO:brwilliams2@muw.edu
END:VEVENT
BEGIN:VEVENT
DTSTART;TZID=America/Toronto:20220710T120000
DTEND;TZID=America/Toronto:20220710T180000
DTSTAMP:20260422T185424
CREATED:20220101T162612Z
LAST-MODIFIED:20220101T162612Z
UID:5504-1657454400-1657476000@www.elmlakegolfcourse.com
SUMMARY:Club Championship Day 2
DESCRIPTION:
URL:https://www.elmlakegolfcourse.com/event/club-championship-day-2/
LOCATION:Elm Lake Golf Course\, 1609 Taylor-Thurston Rd.\, Columbus\, MS\, 39701\, United States
END:VEVENT
BEGIN:VEVENT
DTSTART;TZID=America/Toronto:20220709T080000
DTEND;TZID=America/Toronto:20220709T143000
DTSTAMP:20260422T185424
CREATED:20220101T162528Z
LAST-MODIFIED:20220101T162528Z
UID:5501-1657353600-1657377000@www.elmlakegolfcourse.com
SUMMARY:Club Championship Day 1
DESCRIPTION:
URL:https://www.elmlakegolfcourse.com/event/club-championship-day-1/
LOCATION:Elm Lake Golf Course\, 1609 Taylor-Thurston Rd.\, Columbus\, MS\, 39701\, United States
END:VEVENT
BEGIN:VEVENT
DTSTART;TZID=America/Toronto:20220620T080000
DTEND;TZID=America/Toronto:20220622T110000
DTSTAMP:20260422T185424
CREATED:20220310T155532Z
LAST-MODIFIED:20220310T155532Z
UID:5577-1655712000-1655895600@www.elmlakegolfcourse.com
SUMMARY:Junior Golf Camp
DESCRIPTION:
URL:https://www.elmlakegolfcourse.com/event/junior-golf-camp-4/
LOCATION:Elm Lake Golf Course\, 1609 Taylor-Thurston Rd.\, Columbus\, MS\, 39701\, United States
ORGANIZER;CN="Erika Scott%2C PGA":MAILTO:escott@business.msstate.edu
END:VEVENT
BEGIN:VEVENT
DTSTART;TZID=America/Toronto:20220613T080000
DTEND;TZID=America/Toronto:20220616T120000
DTSTAMP:20260422T185424
CREATED:20220308T192045Z
LAST-MODIFIED:20220308T192744Z
UID:5565-1655107200-1655380800@www.elmlakegolfcourse.com
SUMMARY:Junior Golf Camp
DESCRIPTION:
URL:https://www.elmlakegolfcourse.com/event/junior-golf-camp/
LOCATION:Elm Lake Golf Course\, 1609 Taylor-Thurston Rd.\, Columbus\, MS\, 39701\, United States
ORGANIZER;CN="Benji Williams":MAILTO:brwilliams2@muw.edu
END:VEVENT
END:VCALENDAR